BEGIN:VCALENDAR
VERSION:2.0
PRODID:-//Squarespace Inc/Squarespace 6//v6//EN
BEGIN:VEVENT
UID:5c5264f7aa4a9982d6ce4240@squarespace.com
DTSTAMP:20190131T030659Z
DTSTART:20190131T230000Z
DTEND:20190228T010000Z
SUMMARY:Free February Daily Kids Art @ West End
END:VEVENT
END:VCALENDAR
