BEGIN:VCALENDAR
VERSION:2.0
PRODID:-//Squarespace Inc/Squarespace 6//v6//EN
BEGIN:VEVENT
UID:5c36bf19b8a045a92d67e16e@squarespace.com
DTSTAMP:20190110T035058Z
DTSTART:20190101T230000Z
DTEND:20190131T010000Z
SUMMARY:FREE Kid's Art @ West Village Brisbane: 97 Boundary Street\, West E
 nd
END:VEVENT
END:VCALENDAR
