BEGIN:VCALENDAR
VERSION:2.0
PRODID:-//Squarespace Inc/Squarespace 6//v6//EN
BEGIN:VEVENT
UID:5bff8678352f53765f5f63e6@squarespace.com
DTSTAMP:20181129T064456Z
DTSTART:20181218T023000Z
DTEND:20181218T043000Z
SUMMARY:Bris. City Council Active Parks Chill Out Program: Lizard Prints
END:VEVENT
END:VCALENDAR
