BEGIN:VCALENDAR
VERSION:2.0
PRODID:-//Squarespace Inc/Squarespace 6//v6//EN
BEGIN:VEVENT
UID:5bff8637575d1fcc094abd56@squarespace.com
DTSTAMP:20181129T064114Z
DTSTART:20181217T230000Z
DTEND:20181218T020000Z
SUMMARY:Bris. City Council Active Parks Chill Out Program: Cityscape Prints
END:VEVENT
END:VCALENDAR
