BEGIN:VCALENDAR
VERSION:2.0
PRODID:-//Squarespace Inc/Squarespace 6//v6//EN
BEGIN:VEVENT
UID:5bff83f0352f53765f5f4e54@squarespace.com
DTSTAMP:20181129T063925Z
DTSTART:20181217T000000Z
DTEND:20181217T020000Z
SUMMARY:Bris. City Council Chill Out Program Activities: Clay Bugs &amp\; C
 reepy Crawlies
END:VEVENT
END:VCALENDAR
