BEGIN:VCALENDAR
VERSION:2.0
PRODID:-//Squarespace Inc/Squarespace 6//v6//EN
BEGIN:VEVENT
UID:5bff824e88251be6ba0d95b9@squarespace.com
DTSTAMP:20181129T063811Z
DTSTART:20181215T000000Z
DTEND:20181215T013000Z
SUMMARY:The Gruffalo @ Carindale Library
END:VEVENT
END:VCALENDAR
