BEGIN:VCALENDAR
VERSION:2.0
PRODID:-//Squarespace Inc/Squarespace 6//v6//EN
BEGIN:VEVENT
UID:5bff83374ae23717f2e9a0f5@squarespace.com
DTSTAMP:20181129T063721Z
DTSTART:20181214T230000Z
DTEND:20181224T020000Z
SUMMARY:FREE Christmas Craft @ MarketPlace Warner: 9am-12pm each day
END:VEVENT
END:VCALENDAR
