BEGIN:VCALENDAR
VERSION:2.0
PRODID:-//Squarespace Inc/Squarespace 6//v6//EN
BEGIN:VEVENT
UID:5bff809b88251be6ba0d8797@squarespace.com
DTSTAMP:20181129T063554Z
DTSTART:20181130T230000Z
DTEND:20181221T010000Z
SUMMARY:FREE Kid's Art @ West Village Brisbane: 97 Boundary St\, West End
END:VEVENT
END:VCALENDAR
