BEGIN:VCALENDAR
VERSION:2.0
PRODID:-//Squarespace Inc/Squarespace 6//v6//EN
BEGIN:VEVENT
UID:5bff85c5032be4bc34eb6f95@squarespace.com
DTSTAMP:20181129T064532Z
DTSTART:20181217T023000Z
DTEND:20181217T043000Z
SUMMARY:Bris. City Council Active Parks Chill Out Program: Painted Clay Cac
 tuses
END:VEVENT
END:VCALENDAR
