BEGIN:VCALENDAR
VERSION:2.0
PRODID:-//Squarespace Inc/Squarespace 6//v6//EN
BEGIN:VEVENT
UID:5540811ee4b0caede2d3b95b@squarespace.com
DTSTAMP:20150628T042924Z
DTSTART:20150628T230000Z
DTEND:20150710T030000Z
SUMMARY:June/July School Holiday Program
END:VEVENT
END:VCALENDAR
